Workbook
Name M_2008_MCA: #REF!
Name M_2008_P24: #REF!
Name M_208_P21: #REF!
Name M_3008_hybrid4: #REF!
Name M_3008_P84: #REF!
Name M_301: #REF!
Name M_308_P5: #REF!
Name M_5008_P87: #REF!
Name M_BOXER_X250: #REF!
Name M_E_2008: #REF!
Name M_PARTNER_EV: #REF!
Name M_RIFTER_K9: #REF!
Name M_TRAVELLER_K0: #REF!

Sheet TARIFARIO OTROS SERVICIOS
A1: ÍTEM | B1: DETALLE | C1: VALOR NETO | D1: OBSERVACIONES
A2: 1 | B2: Gestión Revisión Técnica | C2: 80000 | D2: valor trámite sin rechazo
A3: 2 | B3: Gestión Altas y Bajas App | C3: 40000 | D3: Cobro es por uso de aplicación y lavado de la unidad, no por permanencia en las instalaciones
A4: 3 | B4: Reparación de Neumáticos con balanceo flota liviana | C4: 18000 | D4: valor unitario
A5: 4 | B5: Adblue | C5: 2000 | D5: valor unitario
A6: 5 | B6: Arriendo de estacionamiento sobre 5 unidades | C6: 50000 | D6: valor mensual por unidad
A7: 6 | B7: Lavado de Vehículo express flota liviana | C7: 15000 | D7: Cuando el vehículo ingresa solo por lavado
A8: 7 | B8: Recarga extintor 1 KG | C8: 12000 | D8: valor unitario
A9: 8 | B9: Grabado de patentes | C9: 30000 | D9: valor unitario
A10: 9 | B10: Grabado patentes en un (1) vidrio | C10: 20000 | D10: valor unitario

Sheet TARIFARIO CORRECTIVOS
A1: ITEM | B1: Servicios | C1: Valor Neto Unit | D1: Unidad
A2: 1 | B2: Alineación flota liviana | C2: 25000 | D2: valor unitario
A3: 2 | B3: Alineación flota liviana | C3: 25000 | D3: valor unitario
A4: 3 | B4: Alineación camión 3/4 y furgones | C4: 45000 | D4: valor unitario
A5: 4 | B5: Balanceo neumático flota liviana | C5: 6000 | D5: valor unitario
A6: 5 | B6: Rectificado de discos de freno flota liviana | C6: 20000 | D6: valor unitario
A7: 6 | B7: Rectificado de tambores de freno flota liviana | C7: 20000 | D7: valor unitario
A8: 7 | B8: Embalatado patines de freno flota liviana | C8: 11250 | D8: valor unitario
A9: 8 | B9: Montaje de neumático flota liviana | C9: 6000 | D9: valor unitario
A10: 9 | B10: Confección bujes cáliper | C10: 11250 | D10: valor unitario
A11: 10 | B11: Scanner diagnóstico multimarca | C11: 60000 | D11: valor unitario
A12: 11 | B12: Traslado unidad flota liviana Grúa (Radio urbano) | C12: 50000 | D12: valor unitario

Sheet LANDTREK
A1: LANDTREK HDI 150 4x2 | B1: CODIGO | C1: Valor Unitario | D1: CANTIDAD | E1: VALOR TOTAL | F1: 10-30-50-70-90 | G1: 20-100 | H1: 60 CON DISTRIBUCION | I1: 40-80
A2: Litro de Aceite de Motor | B2: ='VALOR REPUESTOS'!$A$12 -> A5W30 | C2: ='VALOR REPUESTOS'!$C$12 -> 8000 | D2: 6.5 | E2: =C2*D2 -> 52000 | F2: =$E$2 -> 52000 | G2: =$E$2 -> 52000 | H2: =$E$2 -> 52000 | I2: =$E$2 -> 52000
A3: Cambio Filtro de Aceite de Motor | B3: ='VALOR REPUESTOS'!$A$18 -> FM | C3: ='VALOR REPUESTOS'!$C$18 -> 16500 | D3: 1 | E3: =C3*D3 -> 16500 | F3: =$E$3 -> 16500 | G3: =$E$3 -> 16500 | H3: =$E$3 -> 16500 | I3: =$E$3 -> 16500
A4: Cambio golilla tapón del carter | B4: ='VALOR REPUESTOS'!$A$17 -> GTC | C4: ='VALOR REPUESTOS'!$C$17 -> 3500 | D4: 1 | E4: =C4*D4 -> 3500 | F4: =$E$4 -> 3500 | G4: =$E$4 -> 3500 | H4: =$E$4 -> 3500 | I4: =$E$4 -> 3500
A5: Cambio Filtro de Aire | B5: ='VALOR REPUESTOS'!$A$20 -> FA | C5: ='VALOR REPUESTOS'!$C$20 -> 23000 | D5: 1 | E5: =C5*D5 -> 23000 | G5: =$E$5 -> 23000 | H5: =$E$5 -> 23000 | I5: =$E$5 -> 23000
A6: Cambio Filtro de Polen | B6: ='VALOR REPUESTOS'!$A$19 -> FP | C6: ='VALOR REPUESTOS'!$C$19 -> 20000 | D6: 1 | E6: =C6*D6 -> 20000 | G6: =$E$6 -> 20000 | H6: =$E$6 -> 20000 | I6: =$E$6 -> 20000
A7: Líquido Limpiaparabrisas Concentrado | B7: ='VALOR REPUESTOS'!$A$16 -> LLP | C7: ='VALOR REPUESTOS'!$C$16 -> 3500 | D7: 1 | E7: =C7*D7 -> 3500 | F7: =$E$7 -> 3500 | G7: =$E$7 -> 3500 | H7: =$E$7 -> 3500 | I7: =$E$7 -> 3500
A8: Cambio Filtro de Combustible | B8: ='VALOR REPUESTOS'!$A$21 -> FC | C8: ='VALOR REPUESTOS'!$C$21 -> 25000 | D8: 1 | E8: =C8*D8 -> 25000 | G8: =$E$8 -> 25000 | H8: =$E$8 -> 25000 | I8: =$E$8 -> 25000
A9: Correa de Accesorios | B9: ='VALOR REPUESTOS'!$A$22 -> CACC | C9: ='VALOR REPUESTOS'!$C$22 -> 30000 | D9: 1 | E9: =C9*D9 -> 30000
A10: Cambio Kit de distribución | B10: ='VALOR REPUESTOS'!$A$23 -> KD | C10: ='VALOR REPUESTOS'!$C$23 -> 220000 | D10: 1 | E10: =C10*D10 -> 220000 | H10: =$E$10 -> 220000
A11: Litro de Refrigerante | B11: ='VALOR REPUESTOS'!$A$3 -> AL1C1 | C11: ='VALOR REPUESTOS'!$C$3 -> 6000 | D11: 8 | E11: =C11*D11 -> 48000 | H11: =$E$11 -> 48000
A12: Materiales e Insumos | B12: ='VALOR REPUESTOS'!$A$11 -> MATEI | C12: ='VALOR REPUESTOS'!$C$11 -> 10000 | D12: 1 | E12: =C12*D12 -> 10000 | F12: =$E$12 -> 10000 | G12: =$E$12 -> 10000 | H12: =$E$12 -> 10000 | I12: =$E$12 -> 10000
A13: MANO DE OBRA | B13: ='VALOR REPUESTOS'!$A$10 -> MO | C13: ='VALOR REPUESTOS'!$C$10 -> 38000 | F13: =C13*F16 -> 76000 | G13: =C13*G16 -> 95000 | H13: =C13*H16 -> 190000 | I13: =C13*I16 -> 95000
A14: TOTAL NETO | F14: =SUM(F2:F13) -> 161500 | G14: =SUM(G2:G13) -> 248500 | H14: =SUM(H2:H13) -> 611500 | I14: =SUM(I2:I13) -> 248500
A15: TOTAL BRUTO | F15: =F14*1.19 -> 192185 | G15: =G14*1.19 -> 295715 | H15: =H14*1.19 -> 727685 | I15: =I14*1.19 -> 295715
F16: 2 | G16: 2.5 | H16: 5 | I16: 2.5
A18: LANDTREK | B18: CODIGO | C18: Valor Unitario | D18: CANTIDAD | E18: VALOR TOTAL | F18: 10-30-50-70-90 | G18: 20-100 | H18: 60 CON DISTRIBUCION | I18: 40-80
A19: Litro de Aceite de Motor | B19: ='VALOR REPUESTOS'!$A$12 -> A5W30 | C19: ='VALOR REPUESTOS'!$C$12 -> 8000 | D19: 6.5 | E19: =C19*D19 -> 52000 | F19: =$E$19 -> 52000 | G19: =$E$19 -> 52000 | H19: =$E$19 -> 52000 | I19: =$E$19 -> 52000
A20: Cambio Filtro de Aceite de Motor | B20: ='VALOR REPUESTOS'!$A$18 -> FM | C20: ='VALOR REPUESTOS'!$C$18 -> 16500 | D20: 1 | E20: =C20*D20 -> 16500 | F20: =$E$20 -> 16500 | G20: =$E$20 -> 16500 | H20: =$E$20 -> 16500 | I20: =$E$20 -> 16500
A21: Cambio golilla tapón del carter | B21: ='VALOR REPUESTOS'!$A$17 -> GTC | C21: ='VALOR REPUESTOS'!$C$17 -> 3500 | D21: 1 | E21: =C21*D21 -> 3500 | F21: =$E$21 -> 3500 | G21: =$E$21 -> 3500 | H21: =$E$21 -> 3500 | I21: =$E$21 -> 3500
A22: Cambio Filtro de Aire | B22: ='VALOR REPUESTOS'!$A$20 -> FA | C22: ='VALOR REPUESTOS'!$C$20 -> 23000 | D22: 1 | E22: =C22*D22 -> 23000 | G22: =$E$22 -> 23000 | H22: =$E$22 -> 23000 | I22: =$E$22 -> 23000
A23: Cambio Filtro de Polen | B23: ='VALOR REPUESTOS'!$A$19 -> FP | C23: ='VALOR REPUESTOS'!$C$19 -> 20000 | D23: 1 | E23: =C23*D23 -> 20000 | G23: =$E$23 -> 20000 | H23: =$E$23 -> 20000 | I23: =$E$23 -> 20000
A24: Líquido Limpiaparabrisas Concentrado | B24: ='VALOR REPUESTOS'!$A$16 -> LLP | C24: ='VALOR REPUESTOS'!$C$16 -> 3500 | D24: 1 | E24: =C24*D24 -> 3500 | F24: =$E$24 -> 3500 | G24: =$E$24 -> 3500 | H24: =$E$24 -> 3500 | I24: =$E$24 -> 3500
A25: Cambio Filtro de Combustible | B25: ='VALOR REPUESTOS'!$A$21 -> FC | C25: ='VALOR REPUESTOS'!$C$21 -> 25000 | D25: 1 | E25: =C25*D25 -> 25000 | G25: =$E$25 -> 25000 | H25: =$E$25 -> 25000 | I25: =$E$25 -> 25000
A26: Litro de Aceite Transferencia | B26: ='VALOR REPUESTOS'!$A$6 -> 80W90 | C26: ='VALOR REPUESTOS'!$C$6 -> 10500 | D26: 3 | E26: =C26*D26 -> 31500 | I26: =$E$26 -> 31500
A27: Litro de Refrigerante | B27: ='VALOR REPUESTOS'!$A$3 -> AL1C1 | C27: ='VALOR REPUESTOS'!$C$3 -> 6000 | D27: 8 | E27: =C27*D27 -> 48000 | H27: =$E$27 -> 48000
A28: Correa de Accesorios | B28: ='VALOR REPUESTOS'!$A$22 -> CACC | C28: ='VALOR REPUESTOS'!$C$22 -> 30000 | D28: 1 | E28: =C28*D28 -> 30000
A29: Cambio Kit de distribución | B29: ='VALOR REPUESTOS'!$A$23 -> KD | C29: ='VALOR REPUESTOS'!$C$23 -> 220000 | D29: 1 | E29: =C29*D29 -> 220000 | H29: =$E$29 -> 220000
A30: Materiales e Insumos | B30: ='VALOR REPUESTOS'!$A$11 -> MATEI | C30: ='VALOR REPUESTOS'!$C$11 -> 10000 | D30: 1 | E30: =C30*D30 -> 10000 | F30: =$E$30 -> 10000 | G30: =$E$30 -> 10000 | H30: =$E$30 -> 10000 | I30: =$E$30 -> 10000
A31: MANO DE OBRA | B31: ='VALOR REPUESTOS'!$A$10 -> MO | C31: ='VALOR REPUESTOS'!$C$10 -> 38000 | F31: =C31*F34 -> 76000 | G31: =C31*G34 -> 95000 | H31: =C31*H34 -> 190000 | I31: =C31*I34 -> 114000
A32: TOTAL NETO | F32: =SUM(F19:F31) -> 161500 | G32: =SUM(G19:G31) -> 248500 | H32: =SUM(H19:H31) -> 611500 | I32: =SUM(I19:I31) -> 299000
A33: TOTAL BRUTO | F33: =F32*1.19 -> 192185 | G33: =G32*1.19 -> 295715 | H33: =H32*1.19 -> 727685 | I33: =I32*1.19 -> 355810
F34: 2 | G34: 2.5 | H34: 5 | I34: 3

Sheet RAM
A1: RAM VAN 700 CITY DIESEL | B1: CODIGO | C1: Valor Unitario | D1: CANTIDAD | E1: VALOR TOTAL | F1: 10-30. | G1: 20-100 | H1: 50-70-90 | I1: 40 | J1: 60 | K1: 80 C/DIST
A2: Litro de Aceite de Motor | B2: ='VALOR REPUESTOS'!$A$12 -> A5W30 | C2: ='VALOR REPUESTOS'!$C$12 -> 8000 | D2: 4 | E2: =C2*D2 -> 32000 | F2: =$E$2 -> 32000 | G2: =$E$2 -> 32000 | H2: =$E$2 -> 32000 | I2: =$E$2 -> 32000 | J2: =$E$2 -> 32000 | K2: =$E$2 -> 32000
A3: Cambio Filtro de Aceite de Motor | B3: ='VALOR REPUESTOS'!$A$24 -> FM | C3: ='VALOR REPUESTOS'!$C$24 -> 10000 | D3: 1 | E3: =C3*D3 -> 10000 | F3: =$E$3 -> 10000 | G3: =$E$3 -> 10000 | H3: =$E$3 -> 10000 | I3: =$E$3 -> 10000 | J3: =$E$3 -> 10000 | K3: =$E$3 -> 10000
A4: Cambio golilla tapón del carter | B4: ='VALOR REPUESTOS'!$A$17 -> GTC | C4: ='VALOR REPUESTOS'!$C$17 -> 3500 | D4: 1 | E4: =C4*D4 -> 3500 | F4: =$E$4 -> 3500 | G4: =$E$4 -> 3500 | H4: =$E$4 -> 3500 | I4: =$E$4 -> 3500 | J4: =$E$4 -> 3500 | K4: =$E$4 -> 3500
A5: Cambio Filtro de Aire | B5: ='VALOR REPUESTOS'!$A$25 -> FA | C5: ='VALOR REPUESTOS'!$C$25 -> 13500 | D5: 1 | E5: =C5*D5 -> 13500 | F5: =$E$5 -> 13500 | G5: =$E$5 -> 13500 | H5: =$E$5 -> 13500 | I5: =$E$5 -> 13500 | J5: =$E$5 -> 13500 | K5: =$E$5 -> 13500
A6: Cambio Filtro de Combustible | B6: ='VALOR REPUESTOS'!$A$26 -> FC | C6: ='VALOR REPUESTOS'!$C$26 -> 23000 | D6: 1 | E6: =C6*D6 -> 23000 | G6: =$E$6 -> 23000 | I6: =$E$6 -> 23000 | J6: =$E$6 -> 23000 | K6: =$E$6 -> 23000
A7: Cambio Filtro de Polen | B7: ='VALOR REPUESTOS'!$A$29 -> FP | C7: ='VALOR REPUESTOS'!$C$29 -> 13500 | D7: 1 | E7: =C7*D7 -> 13500 | G7: =$E$7 -> 13500 | I7: =$E$7 -> 13500 | J7: =$E$7 -> 13500 | K7: =$E$7 -> 13500
A8: Líquido Limpiaparabrisas Concentrado | B8: ='VALOR REPUESTOS'!$A$16 -> LLP | C8: ='VALOR REPUESTOS'!$C$16 -> 3500 | D8: 1 | E8: =C8*D8 -> 3500 | F8: =$E$8 -> 3500 | G8: =$E$8 -> 3500 | H8: =$E$8 -> 3500 | I8: =$E$8 -> 3500 | J8: =$E$8 -> 3500 | K8: =$E$8 -> 3500
A9: Kit de Distribución | B9: ='VALOR REPUESTOS'!$A$28 -> KD | C9: ='VALOR REPUESTOS'!$C$28 -> 100000 | D9: 1 | E9: =C9*D9 -> 100000 | K9: =$E$9 -> 100000
A10: Correa de accesorios | B10: ='VALOR REPUESTOS'!$A$27 -> CACC | C10: ='VALOR REPUESTOS'!$C$27 -> 20000 | D10: 1 | E10: =C10*D10 -> 20000 | K10: =$E$10 -> 20000
A11: Litro Liquido de Freno | B11: ='VALOR REPUESTOS'!$A$9 -> AL3C1F | C11: ='VALOR REPUESTOS'!$C$9 -> 6800 | D11: 1 | E11: =C11*D11 -> 6800 | I11: =$E$11 -> 6800 | K11: =$I$11 -> 6800
A12: Litro de Refrigerante | B12: ='VALOR REPUESTOS'!$A$3 -> AL1C1 | C12: ='VALOR REPUESTOS'!$C$3 -> 6000 | D12: 8 | E12: =C12*D12 -> 48000 | K12: =$E$12 -> 48000
A13: Materiales e Insumos | B13: ='VALOR REPUESTOS'!$A$11 -> MATEI | C13: ='VALOR REPUESTOS'!$C$11 -> 10000 | D13: 1 | E13: =C13*D13 -> 10000 | F13: =$E$13 -> 10000 | G13: =$E$13 -> 10000 | H13: =$E$13 -> 10000 | I13: =$E$13 -> 10000 | J13: =$E$13 -> 10000 | K13: =$E$13 -> 10000
A14: MANO DE OBRA | B14: ='VALOR REPUESTOS'!$A$10 -> MO | C14: ='VALOR REPUESTOS'!$C$10 -> 38000 | F14: =C14*F17 -> 57000 | G14: =C14*G17 -> 95000 | H14: =C14*H17 -> 76000 | I14: =C14*I17 -> 95000 | J14: =C14*J17 -> 95000 | K14: =C14*K17 -> 190000
A15: TOTAL NETO | F15: =SUM(F2:F14) -> 129500 | G15: =SUM(G2:G14) -> 204000 | H15: =SUM(H2:H14) -> 148500 | I15: =SUM(I2:I14) -> 210800 | J15: =SUM(J2:J14) -> 204000 | K15: =SUM(K2:K14) -> 473800
A16: TOTAL BRUTO | F16: =F15*1.19 -> 154105 | G16: =G15*1.19 -> 242760 | H16: =H15*1.19 -> 176715 | I16: =I15*1.19 -> 250852 | J16: =J15*1.19 -> 242760 | K16: =K15*1.19 -> 563822
A17: HORAS DE TRABAJO | F17: 1.5 | G17: 2.5 | H17: 2 | I17: 2.5 | J17: 2.5 | K17: 5
A20: RAM VAN 700 BENCINERO | B20: CODIGO | C20: Valor Unitario | D20: CANTIDAD | E20: VALOR TOTAL | F20: 10-30. | G20: 20-100 | H20: 50-70-90 | I20: 40 | J20: 60 C/DIST | K20: 80
A21: Litro de Aceite de Motor | B21: ='VALOR REPUESTOS'!$A$12 -> A5W30 | C21: ='VALOR REPUESTOS'!$C$12 -> 8000 | D21: 4 | E21: =C21*D21 -> 32000 | F21: =$E$21 -> 32000 | G21: =$E$21 -> 32000 | H21: =$E$21 -> 32000 | I21: =$E$21 -> 32000 | J21: =$E$21 -> 32000 | K21: =$E$21 -> 32000
A22: Cambio Filtro de Aceite de Motor | B22: ='VALOR REPUESTOS'!$A$169 -> FM | C22: ='VALOR REPUESTOS'!$C$169 -> 15000 | D22: 1 | E22: =C22*D22 -> 15000 | F22: =$E$22 -> 15000 | G22: =$E$22 -> 15000 | H22: =$E$22 -> 15000 | I22: =$E$22 -> 15000 | J22: =$E$22 -> 15000 | K22: =$E$22 -> 15000
A23: Cambio golilla tapón del carter | B23: ='VALOR REPUESTOS'!$A$17 -> GTC | C23: ='VALOR REPUESTOS'!$C$17 -> 3500 | D23: 1 | E23: =C23*D23 -> 3500 | F23: =$E$23 -> 3500 | G23: =$E$23 -> 3500 | H23: =$E$23 -> 3500 | I23: =$E$23 -> 3500 | J23: =$E$23 -> 3500 | K23: =$E$23 -> 3500
A24: Cambio Filtro de Aire | B24: ='VALOR REPUESTOS'!$A$170 -> FA | C24: ='VALOR REPUESTOS'!$C$170 -> 15000 | D24: 1 | E24: =C24*D24 -> 15000 | F24: =$E$24 -> 15000 | G24: =$E$24 -> 15000 | H24: =$E$24 -> 15000 | I24: =$E$24 -> 15000 | J24: =$E$24 -> 15000 | K24: =$E$24 -> 15000
A25: Cambio Filtro de Combustible | B25: ='VALOR REPUESTOS'!$A$171 -> FC | C25: ='VALOR REPUESTOS'!$C$171 -> 19000 | D25: 1 | E25: =C25*D25 -> 19000 | G25: =$E$25 -> 19000 | I25: =$E$25 -> 19000 | J25: =$E$25 -> 19000 | K25: =$E$25 -> 19000
A26: Cambio Filtro de Polen | B26: ='VALOR REPUESTOS'!$A$172 -> FP | C26: ='VALOR REPUESTOS'!$C$172 -> 15000 | D26: 1 | E26: =C26*D26 -> 15000 | G26: =$E$26 -> 15000 | I26: =$E$26 -> 15000 | J26: =$E$26 -> 15000 | K26: =$E$26 -> 15000
A27: Bujia de encendido A | B27: ='VALOR REPUESTOS'!$A$175 -> BUJ | C27: ='VALOR REPUESTOS'!$C$175 -> 22000 | D27: 4 | E27: =C27*D27 -> 88000
A28: Líquido Limpiaparabrisas Concentrado | B28: ='VALOR REPUESTOS'!$A$16 -> LLP | C28: ='VALOR REPUESTOS'!$C$16 -> 3500 | D28: 1 | E28: =C28*D28 -> 3500 | F28: =$E$28 -> 3500 | G28: =$E$28 -> 3500 | H28: =$E$28 -> 3500 | I28: =$E$28 -> 3500 | J28: =$E$28 -> 3500 | K28: =$E$28 -> 3500
A29: Kit distribucion A | B29: ='VALOR REPUESTOS'!$A$174 -> KD | C29: ='VALOR REPUESTOS'!$C$174 -> 130000 | D29: 1 | E29: =C29*D29 -> 130000 | J29: =$E$29 -> 130000
A30: Correa accesorios A | B30: ='VALOR REPUESTOS'!$A$173 -> CACC | C30: ='VALOR REPUESTOS'!$C$173 -> 25000 | D30: 1 | E30: =C30*D30 -> 25000 | J30: =$E$30 -> 25000
A31: Líquido de Freno A | B31: ='VALOR REPUESTOS'!$A$9 -> AL3C1F | C31: ='VALOR REPUESTOS'!$C$9 -> 6800 | D31: 1 | E31: =C31*D31 -> 6800 | I31: =$E$11 -> 6800 | K31: =$E$31 -> 6800
A32: Refrigerante | B32: ='VALOR REPUESTOS'!$A$3 -> AL1C1 | C32: ='VALOR REPUESTOS'!$C$3 -> 6000 | D32: 8 | E32: =C32*D32 -> 48000 | J32: =$E$32 -> 48000
A33: Materiales e insumos | B33: ='VALOR REPUESTOS'!$A$11 -> MATEI | C33: ='VALOR REPUESTOS'!$C$11 -> 10000 | D33: 1 | E33: =C33*D33 -> 10000 | F33: =$E$33 -> 10000 | G33: =$E$33 -> 10000 | H33: =$E$33 -> 10000 | I33: =$E$33 -> 10000 | J33: =$E$33 -> 10000 | K33: =$E$33 -> 10000
A34: MANO DE OBRA | B34: ='VALOR REPUESTOS'!$A$10 -> MO | C34: ='VALOR REPUESTOS'!$C$10 -> 38000 | F34: =C34*F37 -> 57000 | G34: =C34*G37 -> 95000 | H34: =C34*H37 -> 76000 | I34: =C34*I37 -> 95000 | J34: =C34*J37 -> 190000 | K34: =C34*K37 -> 95000
A35: TOTAL NETO | F35: =SUM(F21:F34) -> 136000 | G35: =SUM(G21:G34) -> 208000 | H35: =SUM(H21:H34) -> 155000 | I35: =SUM(I21:I34) -> 214800 | J35: =SUM(J21:J34) -> 506000 | K35: =SUM(K21:K34) -> 214800
A36: TOTAL BRUTO | F36: =F35*1.19 -> 161840 | G36: =G35*1.19 -> 247520 | H36: =H35*1.19 -> 184450 | I36: =I35*1.19 -> 255612 | J36: =J35*1.19 -> 602140 | K36: =K35*1.19 -> 255612
A37: HORAS DE TRABAJO | F37: 1.5 | G37: 2.5 | H37: 2 | I37: 2.5 | J37: 5 | K37: 2.5

Sheet DUCATO
A1: FIAT DUCATO MEC 4X2 DIESEL | B1: CODIGO | C1: Valor Unitario | D1: CANTIDAD | E1: VALOR TOTAL | F1: 15 | G1: 30-60 | H1: 45 | I1: 90 C/D | J1: 75-105
A2: Litro de Aceite de Motor | B2: ='VALOR REPUESTOS'!$A$12 -> A5W30 | C2: ='VALOR REPUESTOS'!$C$12 -> 8000 | D2: 5 | E2: =C2*D2 -> 40000 | F2: =$E$2 -> 40000 | G2: =$E$2 -> 40000 | H2: =$E$2 -> 40000 | I2: =$E$2 -> 40000 | J2: =$E$2 -> 40000
A3: Cambio Filtro de Aceite de Motor | B3: ='VALOR REPUESTOS'!$A$30 -> FM | C3: ='VALOR REPUESTOS'!$C$30 -> 13000 | D3: 1 | E3: =C3*D3 -> 13000 | F3: =$E$3 -> 13000 | G3: =$E$3 -> 13000 | H3: =$E$3 -> 13000 | I3: =$E$3 -> 13000 | J3: =$E$3 -> 13000
A4: Cambio golilla tapón del carter | B4: ='VALOR REPUESTOS'!$A$17 -> GTC | C4: ='VALOR REPUESTOS'!$C$17 -> 3500 | D4: 1 | E4: =C4*D4 -> 3500 | F4: =$E$4 -> 3500 | G4: =$E$4 -> 3500 | H4: =$E$4 -> 3500 | I4: =$E$4 -> 3500 | J4: =$E$4 -> 3500
A5: Cambio de Filtro de Polen | B5: ='VALOR REPUESTOS'!$A$31 -> FP | C5: ='VALOR REPUESTOS'!$C$31 -> 20000 | D5: 1 | E5: =C5*D5 -> 20000 | G5: =$E$5 -> 20000 | H5: =$E$5 -> 20000 | I5: =$E$5 -> 20000
A6: Cambio Filtro de Aire | B6: ='VALOR REPUESTOS'!$A$32 -> FA | C6: ='VALOR REPUESTOS'!$C$32 -> 20000 | D6: 1 | E6: =C6*D6 -> 20000 | F6: =$E$6 -> 20000 | G6: =$E$6 -> 20000 | H6: =$E$6 -> 20000 | I6: =$E$6 -> 20000 | J6: =$E$6 -> 20000
A7: Cambio Filtro de Combustible | B7: ='VALOR REPUESTOS'!$A$33 -> FC | C7: ='VALOR REPUESTOS'!$C$33 -> 23000 | D7: 1 | E7: =C7*D7 -> 23000 | G7: =$E$7 -> 23000 | I7: =$E$7 -> 23000
A8: Líquido Limpiaparabrisas Concentrado | B8: ='VALOR REPUESTOS'!$A$16 -> LLP | C8: ='VALOR REPUESTOS'!$C$16 -> 3500 | D8: 1 | E8: =C8*D8 -> 3500 | F8: =$E$8 -> 3500 | G8: =$E$8 -> 3500 | H8: =$E$8 -> 3500 | I8: =$E$8 -> 3500 | J8: =$E$8 -> 3500
A9: Litro Liquido de Freno | B9: ='VALOR REPUESTOS'!$A$9 -> AL3C1F | C9: ='VALOR REPUESTOS'!$C$9 -> 6800 | D9: 1 | E9: =C9*D9 -> 6800 | H9: =$E$9 -> 6800 | I9: =$E$9 -> 6800
A10: Litro de Refrigerante | B10: ='VALOR REPUESTOS'!$A$3 -> AL1C1 | C10: ='VALOR REPUESTOS'!$C$3 -> 6000 | D10: 8 | E10: =C10*D10 -> 48000 | I10: =$E$10 -> 48000
A11: Kit de Distribución | B11: ='VALOR REPUESTOS'!$A$34 -> KDISTRIB | C11: ='VALOR REPUESTOS'!$C$34 -> 160000 | D11: 1 | E11: =C11*D11 -> 160000 | I11: =$E$11 -> 160000
A12: Correa de Accesorios | B12: ='VALOR REPUESTOS'!$A$35 -> CACCE | C12: ='VALOR REPUESTOS'!$C$35 -> 25000 | D12: 1 | E12: =C12*D12 -> 25000 | I12: =$E$12 -> 25000
A13: Materiales e Insumos | B13: ='VALOR REPUESTOS'!$A$11 -> MATEI | C13: ='VALOR REPUESTOS'!$C$11 -> 10000 | D13: 1 | E13: =C13*D13 -> 10000 | F13: =$E$13 -> 10000 | G13: =$E$13 -> 10000 | H13: =$E$13 -> 10000 | I13: =$E$13 -> 10000 | J13: =$E$13 -> 10000
A14: MANO DE OBRA | B14: ='VALOR REPUESTOS'!$A$10 -> MO | C14: ='VALOR REPUESTOS'!$C$10 -> 38000 | F14: =C14*F17 -> 76000 | G14: =C14*G17 -> 95000 | H14: =C14*H17 -> 95000 | I14: =C14*I17 -> 190000 | J14: =C14*J17 -> 95000
A15: TOTAL NETO | C15: - | F15: =SUM(F2:F14) -> 166000 | G15: =SUM(G2:G14) -> 228000 | H15: =SUM(H2:H14) -> 211800 | I15: =SUM(I2:I14) -> 562800 | J15: =SUM(J2:J14) -> 185000
A16: TOTAL BRUTO | F16: =F15*1.19 -> 197540 | G16: =G15*1.19 -> 271320 | H16: =H15*1.19 -> 252042 | I16: =I15*1.19 -> 669732 | J16: =J15*1.19 -> 220150
A17: HORAS DE TRABAJO | F17: 2 | G17: 2.5 | H17: 2.5 | I17: 5 | J17: 2.5

Sheet TUCSON
A1: HYUNDAI TUCSON BENCINERO | B1: CODIGO | C1: Valor Unitario | D1: CANTIDAD | E1: VALOR TOTAL | F1: 10-30, | G1: 20-60 | H1: 40-80 | I1: 50-70-90 | J1: 100
A2: Litro de Aceite de Motor | B2: ='VALOR REPUESTOS'!$A$12 -> A5W30 | C2: ='VALOR REPUESTOS'!$C$12 -> 8000 | D2: 6 | E2: =C2*D2 -> 48000 | F2: =$E$2 -> 48000 | G2: =$E$2 -> 48000 | H2: =$E$2 -> 48000 | I2: =$E$2 -> 48000 | J2: =$E$2 -> 48000
A3: Cambio Filtro de Aceite de Motor | B3: ='VALOR REPUESTOS'!$A$36 -> FM | C3: ='VALOR REPUESTOS'!$C$36 -> 15000 | D3: 1 | E3: =C3*D3 -> 15000 | F3: =$E$3 -> 15000 | G3: =$E$3 -> 15000 | H3: =$E$3 -> 15000 | I3: =$E$3 -> 15000 | J3: =$E$3 -> 15000
A4: Cambio golilla tapón del carter | B4: ='VALOR REPUESTOS'!$A$17 -> GTC | C4: ='VALOR REPUESTOS'!$C$17 -> 3500 | D4: 1 | E4: =C4*D4 -> 3500 | F4: =$E$4 -> 3500 | G4: =$E$4 -> 3500 | H4: =$E$4 -> 3500 | I4: =$E$4 -> 3500 | J4: =$E$4 -> 3500
A5: Cambio Filtro de Aire | B5: ='VALOR REPUESTOS'!$A$37 -> FA | C5: ='VALOR REPUESTOS'!$C$37 -> 21000 | D5: 1 | E5: =C5*D5 -> 21000 | H5: =$E$5 -> 21000
A6: Cambio Filtro de Combustible | B6: ='VALOR REPUESTOS'!$A$38 -> FC | C6: ='VALOR REPUESTOS'!$C$38 -> 25000 | D6: 1 | E6: =C6*D6 -> 25000 | H6: =$E$6 -> 25000
A7: Líquido Limpiaparabrisas Concentrado | B7: ='VALOR REPUESTOS'!$A$16 -> LLP | C7: ='VALOR REPUESTOS'!$C$16 -> 3500 | D7: 1 | E7: =C7*D7 -> 3500 | F7: =$E$7 -> 3500 | G7: =$E$7 -> 3500 | H7: =$E$7 -> 3500 | I7: =$E$7 -> 3500 | J7: =$E$7 -> 3500
A8: Correa de Accesorios | B8: ='VALOR REPUESTOS'!$A$40 -> CA | C8: ='VALOR REPUESTOS'!$C$40 -> 25000 | D8: 1 | E8: =C8*D8 -> 25000
A9: Materiales e Insumos | B9: ='VALOR REPUESTOS'!$A$11 -> MATEI | C9: ='VALOR REPUESTOS'!$C$11 -> 10000 | D9: 1 | E9: =C9*D9 -> 10000 | F9: =$E$9 -> 10000 | G9: =$E$9 -> 10000 | H9: =$E$9 -> 10000 | I9: =$E$9 -> 10000 | J9: =$E$9 -> 10000
A10: MANO DE OBRA | B10: ='VALOR REPUESTOS'!$A$10 -> MO | C10: ='VALOR REPUESTOS'!$C$10 -> 38000 | F10: =C10*F13 -> 57000 | G10: =C10*G13 -> 76000 | H10: =C10*H13 -> 95000 | I10: =C10*I13 -> 76000 | J10: =C10*J13 -> 95000
A11: TOTAL NETO | F11: =SUM(F2:F10) -> 137000 | G11: =SUM(G2:G10) -> 156000 | H11: =SUM(H2:H10) -> 221000 | I11: =SUM(I2:I10) -> 156000 | J11: =SUM(J2:J10) -> 175000
A12: TOTAL BRUTO | F12: =F11*1.19 -> 163030 | G12: =G11*1.19 -> 185640 | H12: =H11*1.19 -> 262990 | I12: =I11*1.19 -> 185640 | J12: =J11*1.19 -> 208250
A13: HORAS DE TRABAJO | F13: 1.5 | G13: 2 | H13: 2.5 | I13: 2 | J13: 2.5

Sheet ACCENT
A1: HYUNDAI ACCENT BENCINERA | B1: CODIGO | C1: Valor Unitario | D1: CANTIDAD | E1: VALOR TOTAL | F1: 10 | G1: 30-70 | H1: 20-50 | I1: 40-80 | J1: 60 | K1: 90 | L1: 100
A2: Litro de Aceite de Motor | B2: ='VALOR REPUESTOS'!$A$15 -> 10W40 | C2: ='VALOR REPUESTOS'!$C$15 -> 10000 | D2: 4 | E2: =C2*D2 -> 40000 | F2: =$E$2 -> 40000 | G2: =$E$2 -> 40000 | H2: =$E$2 -> 40000 | I2: =$E$2 -> 40000 | J2: =$E$2 -> 40000 | K2: =$E$2 -> 40000 | L2: =$E$2 -> 40000
A3: Cambio Filtro de Aceite de Motor | B3: ='VALOR REPUESTOS'!$A$41 -> FM | C3: ='VALOR REPUESTOS'!$C$41 -> 10000 | D3: 1 | E3: =C3*D3 -> 10000 | F3: =$E$3 -> 10000 | G3: =$E$3 -> 10000 | H3: =$E$3 -> 10000 | I3: =$E$3 -> 10000 | J3: =$E$3 -> 10000 | K3: =$E$3 -> 10000 | L3: =$E$3 -> 10000
A4: Cambio golilla tapón del carter | B4: ='VALOR REPUESTOS'!$A$17 -> GTC | C4: ='VALOR REPUESTOS'!$C$17 -> 3500 | D4: 1 | E4: =C4*D4 -> 3500 | F4: =$E$4 -> 3500 | G4: =$E$4 -> 3500 | H4: =$E$4 -> 3500 | I4: =$E$4 -> 3500 | J4: =$E$4 -> 3500 | K4: =$E$4 -> 3500 | L4: =$E$4 -> 3500
A5: Cambio Filtro de Aire | B5: ='VALOR REPUESTOS'!$A$43 -> FA | C5: ='VALOR REPUESTOS'!$C$43 -> 16000 | D5: 1 | E5: =C5*D5 -> 16000 | I5: =$E$5 -> 16000
A6: Cambio Filtro de Combustible | B6: ='VALOR REPUESTOS'!$A$42 -> FC | C6: ='VALOR REPUESTOS'!$C$42 -> 18000 | D6: 1 | E6: =C6*D6 -> 18000 | J6: =$E$6 -> 18000
A7: Líquido Limpiaparabrisas Concentrado | B7: ='VALOR REPUESTOS'!$A$16 -> LLP | C7: ='VALOR REPUESTOS'!$C$16 -> 3500 | D7: 1 | E7: =C7*D7 -> 3500 | F7: =$E$7 -> 3500 | G7: =$E$7 -> 3500 | H7: =$E$7 -> 3500 | I7: =$E$7 -> 3500 | J7: =$E$7 -> 3500 | K7: =$E$7 -> 3500 | L7: =$E$7 -> 3500
A8: Cambio Filtro de Polen | B8: ='VALOR REPUESTOS'!$A$46 -> FP | C8: ='VALOR REPUESTOS'!$C$46 -> 16000 | D8: 1 | E8: =C8*D8 -> 16000 | G8: =$E$8 -> 16000
A9: Correa de Accesorios | B9: ='VALOR REPUESTOS'!$A$44 -> CACC | C9: ='VALOR REPUESTOS'!$C$44 -> 20000 | D9: 1 | E9: =C9*D9 -> 20000 | K9: =$E$9 -> 20000
A10: Bujías | B10: ='VALOR REPUESTOS'!$A$45 -> BUJ | C10: ='VALOR REPUESTOS'!$C$45 -> 9000 | D10: 4 | E10: =C10*D10 -> 36000 | J10: =$E$10 -> 36000
A11: Materiales e Insumos | B11: ='VALOR REPUESTOS'!$A$11 -> MATEI | C11: ='VALOR REPUESTOS'!$C$11 -> 10000 | D11: 1 | E11: =C11*D11 -> 10000 | F11: =$E$11 -> 10000 | G11: =$E$11 -> 10000 | H11: =$E$11 -> 10000 | I11: =$E$11 -> 10000 | J11: =$E$11 -> 10000 | K11: =$E$11 -> 10000 | L11: =$E$11 -> 10000
A12: MANO DE OBRA | B12: ='VALOR REPUESTOS'!$A$10 -> MO | C12: ='VALOR REPUESTOS'!$C$10 -> 38000 | F12: =C12*F15 -> 57000 | G12: =C12*G15 -> 76000 | H12: =C12*H15 -> 76000 | I12: =C12*I15 -> 76000 | J12: =C12*J15 -> 95000 | K12: =C12*K15 -> 95000 | L12: =C12*L15 -> 95000
A13: TOTAL NETO | F13: =SUM(F2:F12) -> 124000 | G13: =SUM(G2:G12) -> 159000 | H13: =SUM(H2:H12) -> 143000 | I13: =SUM(I2:I12) -> 159000 | J13: =SUM(J2:J12) -> 216000 | K13: =SUM(K2:K12) -> 182000 | L13: =SUM(L2:L12) -> 162000
A14: TOTAL BRUTO | F14: =F13*1.19 -> 147560 | G14: =G13*1.19 -> 189210 | H14: =H13*1.19 -> 170170 | I14: =I13*1.19 -> 189210 | J14: =J13*1.19 -> 257040 | K14: =K13*1.19 -> 216580 | L14: =L13*1.19 -> 192780
A15: HORAS DE TRABAJO | F15: 1.5 | G15: 2 | H15: 2 | I15: 2 | J15: 2.5 | K15: 2.5 | L15: 2.5

Sheet PORTER
A1: HYUNDAI PORTER 2.5 CRDI EURO V | B1: CODIGO | C1: Valor Unitario | D1: CANTIDAD | E1: VALOR TOTAL | F1: 10-30. | G1: 20 | H1: 40-80 | I1: 50 | J1: 60 | K1: 70-90 | L1: 100
A2: Litro de Aceite de Motor | B2: ='VALOR REPUESTOS'!$A$12 -> A5W30 | C2: ='VALOR REPUESTOS'!$C$12 -> 8000 | D2: 8 | E2: =C2*D2 -> 64000 | F2: =$E$2 -> 64000 | G2: =$E$2 -> 64000 | H2: =$E$2 -> 64000 | I2: =$E$2 -> 64000 | J2: =$E$2 -> 64000 | K2: =$E$2 -> 64000 | L2: =$E$2 -> 64000
A3: Cambio Filtro de Aceite de Motor | B3: ='VALOR REPUESTOS'!$A$47 -> FM | C3: ='VALOR REPUESTOS'!$C$47 -> 15000 | D3: 1 | E3: =C3*D3 -> 15000 | F3: =$E$3 -> 15000 | G3: =$E$3 -> 15000 | H3: =$E$3 -> 15000 | I3: =$E$3 -> 15000 | J3: =$E$3 -> 15000 | K3: =$E$3 -> 15000 | L3: =$E$3 -> 15000
A4: Cambio golilla tapón del carter | B4: ='VALOR REPUESTOS'!$A$17 -> GTC | C4: ='VALOR REPUESTOS'!$C$17 -> 3500 | D4: 1 | E4: =C4*D4 -> 3500 | F4: =$E$4 -> 3500 | G4: =$E$4 -> 3500 | H4: =$E$4 -> 3500 | I4: =$E$4 -> 3500 | J4: =$E$4 -> 3500 | K4: =$E$4 -> 3500 | L4: =$E$4 -> 3500
A5: Cambio Filtro de Aire | B5: ='VALOR REPUESTOS'!$A$48 -> FA | C5: ='VALOR REPUESTOS'!$C$48 -> 23000 | D5: 1 | E5: =C5*D5 -> 23000 | H5: =$E$5 -> 23000
A6: Cambio Filtro de Combustible | B6: ='VALOR REPUESTOS'!$A$49 -> FC | C6: ='VALOR REPUESTOS'!$C$49 -> 25000 | D6: 1 | E6: =C6*D6 -> 25000 | G6: =$E$6 -> 25000 | H6: =$E$6 -> 25000 | J6: =$E$6 -> 25000 | L6: =$E$6 -> 25000
A7: Litro Aceite Caja de Cambios Transmisión Mecánica | B7: ='VALOR REPUESTOS'!$A$8 -> 75W90 | C7: ='VALOR REPUESTOS'!$C$8 -> 12000 | D7: 3 | E7: =C7*D7 -> 36000 | L7: =$E$7 -> 36000
A8: Líquido Limpiaparabrisas Concentrado | B8: ='VALOR REPUESTOS'!$A$16 -> LLP | C8: ='VALOR REPUESTOS'!$C$16 -> 3500 | D8: 1 | E8: =C8*D8 -> 3500 | F8: =$E$8 -> 3500 | G8: =$E$8 -> 3500 | H8: =$E$8 -> 3500 | I8: =$E$8 -> 3500 | J8: =$E$8 -> 3500 | K8: =$E$8 -> 3500 | L8: =$E$8 -> 3500
A9: Litro de Aceite Diferencial Trasero | B9: ='VALOR REPUESTOS'!$A$5 -> 80W90LS | C9: ='VALOR REPUESTOS'!$C$5 -> 10500 | D9: 2.5 | E9: =C9*D9 -> 26250 | H9: =$E$9 -> 26250
A10: Correa de Accesorios | B10: ='VALOR REPUESTOS'!$A$50 -> CACC | C10: ='VALOR REPUESTOS'!$C$50 -> 35000 | D10: 1 | E10: =C10*D10 -> 35000
A11: Litro de Refrigerante | B11: ='VALOR REPUESTOS'!$A$3 -> AL1C1 | C11: ='VALOR REPUESTOS'!$C$3 -> 6000 | D11: 10 | E11: =C11*D11 -> 60000 | I11: =$E$11 -> 60000 | L11: =$E$11 -> 60000
A12: Materiales e Insumos | B12: ='VALOR REPUESTOS'!$A$11 -> MATEI | C12: ='VALOR REPUESTOS'!$C$11 -> 10000 | D12: 1 | E12: =C12*D12 -> 10000 | F12: =$E$12 -> 10000 | G12: =$E$12 -> 10000 | H12: =$E$12 -> 10000 | I12: =$E$12 -> 10000 | J12: =$E$12 -> 10000 | K12: =$E$12 -> 10000 | L12: =$E$12 -> 10000
A13: MANO DE OBRA | B13: ='VALOR REPUESTOS'!$A$10 -> MO | C13: ='VALOR REPUESTOS'!$C$10 -> 38000 | F13: =C13*F16 -> 76000 | G13: =C13*G16 -> 95000 | H13: =C13*H16 -> 114000 | I13: =C13*I16 -> 95000 | J13: =C13*J16 -> 95000 | K13: =C13*K16 -> 76000 | L13: =C13*L16 -> 114000
A14: TOTAL NETO | C14: - | F14: =SUM(F2:F13) -> 172000 | G14: =SUM(G2:G13) -> 216000 | H14: =SUM(H2:H13) -> 284250 | I14: =SUM(I2:I13) -> 251000 | J14: =SUM(J2:J13) -> 216000 | K14: =SUM(K2:K13) -> 172000 | L14: =SUM(L2:L13) -> 331000
A15: TOTAL BRUTO | F15: =F14*1.19 -> 204680 | G15: =G14*1.19 -> 257040 | H15: =H14*1.19 -> 338257.5 | I15: =I14*1.19 -> 298690 | J15: =J14*1.19 -> 257040 | K15: =K14*1.19 -> 204680 | L15: =L14*1.19 -> 393890
A16: HORAS DE TRABAJO | F16: 2 | G16: 2.5 | H16: 3 | I16: 2.5 | J16: 2.5 | K16: 2 | L16: 3

Sheet NQR
A1: NQR CHASSIS CABINA NQR 919_E5 ABS | B1: CODIGO | C1: Valor Unitario | D1: CANTIDAD | E1: VALOR TOTAL | F1: 10-20-70 | G1: 30-60-90 | H1: 40-80 | I1: 50 | J1: 100
A2: Litro de Aceite de Motor | B2: ='VALOR REPUESTOS'!$A$12 -> A5W30 | C2: ='VALOR REPUESTOS'!$C$12 -> 8000 | D2: 11 | E2: =C2*D2 -> 88000 | F2: =$E$2 -> 88000 | G2: =$E$2 -> 88000 | H2: =$E$2 -> 88000 | I2: =$E$2 -> 88000 | J2: =$E$2 -> 88000
A3: Cambio Filtro de Aceite de Motor | B3: ='VALOR REPUESTOS'!$A$51 -> FM | C3: ='VALOR REPUESTOS'!$C$51 -> 25000 | D3: 1 | E3: =C3*D3 -> 25000 | F3: =$E$3 -> 25000 | G3: =$E$3 -> 25000 | H3: =$E$3 -> 25000 | I3: =$E$3 -> 25000 | J3: =$E$3 -> 25000
A4: Cambio golilla tapón del carter | B4: ='VALOR REPUESTOS'!$A$17 -> GTC | C4: ='VALOR REPUESTOS'!$C$17 -> 3500 | D4: 1 | E4: =C4*D4 -> 3500 | F4: =$E$4 -> 3500 | G4: =$E$4 -> 3500 | H4: =$E$4 -> 3500 | I4: =$E$4 -> 3500 | J4: =$E$4 -> 3500
A5: Cambio Filtro de Aire | B5: ='VALOR REPUESTOS'!$A$55 -> FA | C5: ='VALOR REPUESTOS'!$C$55 -> 38000 | D5: 1 | E5: =C5*D5 -> 38000 | F5: =$E$5 -> 38000 | G5: =$E$5 -> 38000 | H5: =$E$5 -> 38000 | I5: =$E$5 -> 38000 | J5: =$E$5 -> 38000
A6: Cambio Filtro de Combustible | B6: ='VALOR REPUESTOS'!$A$57 -> FB | C6: ='VALOR REPUESTOS'!$C$57 -> 40000 | D6: 1 | E6: =C6*D6 -> 40000 | G6: =$E$6 -> 40000
A7: Litro Aceite Caja de Cambios Transmisión Mecánica | B7: ='VALOR REPUESTOS'!$A$8 -> 75W90 | C7: ='VALOR REPUESTOS'!$C$8 -> 12000 | D7: 4.5 | E7: =C7*D7 -> 54000 | H7: =$E$7 -> 54000
A8: Litro de Aceite Diferencial Trasero | B8: ='VALOR REPUESTOS'!$A$5 -> 80W90LS | C8: ='VALOR REPUESTOS'!$C$5 -> 10500 | D8: 3.5 | E8: =C8*D8 -> 36750 | H8: =$E$8 -> 36750
A9: Litro Aceite Dirección Hidraulica | B9: ='VALOR REPUESTOS'!$A$4 -> ATF220 | C9: ='VALOR REPUESTOS'!$C$4 -> 10500 | D9: 2 | E9: =C9*D9 -> 21000 | H9: =$E$9 -> 21000
A10: Líquido Limpiaparabrisas Concentrado | B10: ='VALOR REPUESTOS'!$A$16 -> LLP | C10: ='VALOR REPUESTOS'!$C$16 -> 3500 | D10: 1 | E10: =C10*D10 -> 3500 | F10: =E10 -> 3500 | G10: =F10 -> 3500 | H10: =G10 -> 3500 | I10: =H10 -> 3500 | J10: =I10 -> 3500
A11: Litro Liquido de Freno | B11: ='VALOR REPUESTOS'!$A$9 -> AL3C1F | C11: ='VALOR REPUESTOS'!$C$9 -> 6800 | D11: 2 | E11: =C11*D11 -> 13600 | I11: =$E$11 -> 13600 | J11: =$E$11 -> 13600
A12: Litro Liquido de Embrague | B12: ='VALOR REPUESTOS'!$A$9 -> AL3C1F | C12: ='VALOR REPUESTOS'!$C$9 -> 6800 | D12: 1 | E12: =C12*D12 -> 6800 | I12: =$E$12 -> 6800 | J12: =$E$12 -> 6800
A13: Litro de Refrigerante | B13: ='VALOR REPUESTOS'!$A$3 -> AL1C1 | C13: ='VALOR REPUESTOS'!$C$3 -> 6000 | D13: 14 | E13: =C13*D13 -> 84000 | J13: =$E$13 -> 84000
A14: Materiales e insumos | B14: ='VALOR REPUESTOS'!$A$11 -> MATEI | C14: ='VALOR REPUESTOS'!$C$11 -> 10000 | D14: 1 | E14: =C14*D14 -> 10000 | F14: =$E$14 -> 10000 | G14: =$E$14 -> 10000 | H14: =$E$14 -> 10000 | I14: =$E$14 -> 10000 | J14: =$E$14 -> 10000
A15: Cambio Correa de Accesorios | B15: ='VALOR REPUESTOS'!$A$52 -> CACC | C15: ='VALOR REPUESTOS'!$C$52 -> 45000 | D15: 1 | E15: =C15*D15 -> 45000 | I15: =$E$15 -> 45000 | J15: =$E$15 -> 45000
A16: Cambio Retenes de masa | B16: ='VALOR REPUESTOS'!$A$54 -> RM | C16: ='VALOR REPUESTOS'!$C$54 -> 12500 | D16: 4 | E16: =C16*D16 -> 50000 | I16: =$E$16 -> 50000 | J16: =$E$16 -> 50000
A17: Grasa rodamiento | B17: ='VALOR REPUESTOS'!$A$53 -> GR | C17: ='VALOR REPUESTOS'!$C$53 -> 18000 | D17: 1 | E17: =C17*D17 -> 18000 | I17: =$E$17 -> 18000 | J17: =$E$17 -> 18000
A18: MANO DE OBRA | B18: ='VALOR REPUESTOS'!$A$10 -> MO | C18: ='VALOR REPUESTOS'!$C$10 -> 38000 | F18: =C18*F21 -> 95000 | G18: =C18*G21 -> 114000 | H18: =C18*H21 -> 152000 | I18: =C18*I21 -> 171000 | J18: =C18*J21 -> 171000
A19: TOTAL NETO | F19: =SUM(F2:F18) -> 263000 | G19: =SUM(G2:G18) -> 322000 | H19: =SUM(H2:H18) -> 431750 | I19: =SUM(I2:I18) -> 472400 | J19: =SUM(J2:J18) -> 556400
A20: TOTAL BRUTO | F20: =F19*1.19 -> 312970 | G20: =G19*1.19 -> 383180 | H20: =H19*1.19 -> 513782.5 | I20: =I19*1.19 -> 562156 | J20: =J19*1.19 -> 662116
A21: HORAS DE TRABAJO | F21: 2.5 | G21: 3 | H21: 4 | I21: 4.5 | J21: 4.5

Sheet NEW EXPERT
A1: PEUGEOT NEW EXPERT L3 HDI 150 | B1: CODIGO | C1: Valor Unitario | D1: CANTIDAD | E1: VALOR TOTAL | F1: 20-60 | G1: 40 | H1: 80 C/DIS | I1: 100
A2: Litro de Aceite de Motor | B2: ='VALOR REPUESTOS'!$A$12 -> A5W30 | C2: ='VALOR REPUESTOS'!$C$12 -> 8000 | D2: 5 | E2: =C2*D2 -> 40000 | F2: =$E$2 -> 40000 | G2: =$E$2 -> 40000 | H2: =$E$2 -> 40000 | I2: =$E$2 -> 40000
A3: Cambio Filtro de Aceite de Motor | B3: ='VALOR REPUESTOS'!$A$66 -> FM | C3: ='VALOR REPUESTOS'!$C$66 -> 16000 | D3: 1 | E3: =C3*D3 -> 16000 | F3: =$E$3 -> 16000 | G3: =$E$3 -> 16000 | H3: =$E$3 -> 16000 | I3: =$E$3 -> 16000
A4: Cambio Filtro de Aire | B4: ='VALOR REPUESTOS'!$A$68 -> FA | C4: ='VALOR REPUESTOS'!$C$68 -> 23000 | D4: 1 | E4: =C4*D4 -> 23000 | F4: =$E$4 -> 23000 | G4: =$E$4 -> 23000 | H4: =$E$4 -> 23000 | I4: =$E$4 -> 23000
A5: Cambio Filtro de Polen | B5: ='VALOR REPUESTOS'!$A$67 -> FP | C5: ='VALOR REPUESTOS'!$C$67 -> 22000 | D5: 1 | E5: =C5*D5 -> 22000 | F5: =$E$5 -> 22000 | G5: =$E$5 -> 22000 | H5: =$E$5 -> 22000 | I5: =$E$5 -> 22000
A6: Cambio Filtro de Combustible | B6: ='VALOR REPUESTOS'!$A$69 -> FC | C6: ='VALOR REPUESTOS'!$C$69 -> 30000 | D6: 1 | E6: =C6*D6 -> 30000 | G6: =$E$6 -> 30000 | H6: =$E$6 -> 30000
A7: Cambio golilla tapón del carter | B7: ='VALOR REPUESTOS'!$A$17 -> GTC | C7: ='VALOR REPUESTOS'!$C$17 -> 3500 | D7: 1 | E7: =C7*D7 -> 3500 | F7: =$E$7 -> 3500 | G7: =$E$7 -> 3500 | H7: =$E$7 -> 3500 | I7: =$E$7 -> 3500
A8: Litro Refrigerante | B8: ='VALOR REPUESTOS'!$A$3 -> AL1C1 | C8: ='VALOR REPUESTOS'!$C$3 -> 6000 | D8: 10 | E8: =C8*D8 -> 60000 | H8: =$E$8 -> 60000
A9: Correa de Accesorios | B9: ='VALOR REPUESTOS'!$A$70 -> CACC | C9: ='VALOR REPUESTOS'!$C$70 -> 35000 | D9: 1 | E9: =C9*D9 -> 35000 | H9: =$E$9 -> 35000
A10: Líquido Limpiaparabrisas Concentrado | B10: ='VALOR REPUESTOS'!$A$16 -> LLP | C10: ='VALOR REPUESTOS'!$C$16 -> 3500 | D10: 1 | E10: =C10*D10 -> 3500 | F10: =$E$10 -> 3500 | G10: =$E$10 -> 3500 | H10: =$E$10 -> 3500 | I10: =$E$10 -> 3500
A11: Cambio Kit de distribución | B11: ='VALOR REPUESTOS'!$A$71 -> KDISTRIB | C11: ='VALOR REPUESTOS'!$C$71 -> 180000 | D11: 1 | E11: =C11*D11 -> 180000 | H11: =$E$11 -> 180000
A12: Materiales e Insumos | B12: ='VALOR REPUESTOS'!$A$11 -> MATEI | C12: ='VALOR REPUESTOS'!$C$11 -> 10000 | D12: 1 | E12: =C12*D12 -> 10000 | F12: =$E$12 -> 10000 | G12: =$E$12 -> 10000 | H12: =$E$12 -> 10000 | I12: =$E$12 -> 10000
A13: MANO DE OBRA | B13: ='VALOR REPUESTOS'!$A$10 -> MO | C13: ='VALOR REPUESTOS'!$C$10 -> 38000 | F13: =C13*F16 -> 76000 | G13: =C13*G16 -> 95000 | H13: =C13*H16 -> 190000 | I13: =C13*I16 -> 95000
A14: TOTAL NETO | C14: - | F14: =SUM(F2:F13) -> 194000 | G14: =SUM(G2:G13) -> 243000 | H14: =SUM(H2:H13) -> 613000 | I14: =SUM(I2:I13) -> 213000
A15: TOTAL BRUTO | F15: =F14*1.19 -> 230860 | G15: =G14*1.19 -> 289170 | H15: =H14*1.19 -> 729470 | I15: =I14*1.19 -> 253470
A16: HORAS DE TRABAJO | F16: 2 | G16: 2.5 | H16: 5 | I16: 2.5

Sheet SAVEIRO
A1: VOLKSWAGEN SAVEIRO | B1: CODIGO | C1: Valor Unitario | D1: CANTIDAD | E1: VALOR TOTAL | F1: 15 | G1: 30 | H1: 45-75-105 | I1: 60 | J1: 90 C/D
A2: Litro de Aceite de Motor | B2: ='VALOR REPUESTOS'!$A$12 -> A5W30 | C2: ='VALOR REPUESTOS'!$C$12 -> 8000 | D2: 4 | E2: =C2*D2 -> 32000 | F2: =$E$2 -> 32000 | G2: =$E$2 -> 32000 | H2: =$E$2 -> 32000 | I2: =$E$2 -> 32000 | J2: =$E$2 -> 32000
A3: Cambio Filtro de Aceite de Motor | B3: ='VALOR REPUESTOS'!$A$78 -> FM | C3: ='VALOR REPUESTOS'!$C$78 -> 13000 | D3: 1 | E3: =C3*D3 -> 13000 | F3: =$E$3 -> 13000 | G3: =$E$3 -> 13000 | H3: =$E$3 -> 13000 | I3: =$E$3 -> 13000 | J3: =$E$3 -> 13000
A4: Cambio golilla tapón del carter | B4: ='VALOR REPUESTOS'!$A$17 -> GTC | C4: ='VALOR REPUESTOS'!$C$17 -> 3500 | D4: 1 | E4: =C4*D4 -> 3500 | F4: =$E$4 -> 3500 | G4: =$E$4 -> 3500 | H4: =$E$4 -> 3500 | I4: =$E$4 -> 3500 | J4: =$E$4 -> 3500
A5: Cambio Filtro de Aire | B5: ='VALOR REPUESTOS'!$A$80 -> FA | C5: ='VALOR REPUESTOS'!$C$80 -> 18000 | D5: 1 | E5: =C5*D5 -> 18000 | G5: =$E$5 -> 18000 | I5: =$E$5 -> 18000 | J5: =$E$5 -> 18000
A6: Cambio Filtro de Combustible | B6: ='VALOR REPUESTOS'!$A$81 -> FC | C6: ='VALOR REPUESTOS'!$C$81 -> 18000 | D6: 1 | E6: =C6*D6 -> 18000 | G6: =$E$6 -> 18000 | I6: =$E$6 -> 18000 | J6: =$E$6 -> 18000
A7: Cambio Filtro de Polen | B7: ='VALOR REPUESTOS'!$A$79 -> FP | C7: ='VALOR REPUESTOS'!$C$79 -> 18000 | D7: 1 | E7: =C7*D7 -> 18000 | G7: =$E$7 -> 18000 | I7: =$E$7 -> 18000 | J7: =$E$7 -> 18000
A8: Litro Liquido de Freno | B8: ='VALOR REPUESTOS'!$A$9 -> AL3C1F | C8: ='VALOR REPUESTOS'!$C$9 -> 6800 | D8: 1 | E8: =C8*D8 -> 6800 | I8: =E8 -> 6800
A9: Líquido Limpiaparabrisas Concentrado | B9: ='VALOR REPUESTOS'!$A$16 -> LLP | C9: ='VALOR REPUESTOS'!$C$16 -> 3500 | D9: 1 | E9: =C9*D9 -> 3500 | F9: =E9 -> 3500 | G9: =F9 -> 3500 | H9: =G9 -> 3500 | I9: =H9 -> 3500 | J9: =I9 -> 3500
A10: Correa de accesorios | B10: ='VALOR REPUESTOS'!$A$82 -> CA | C10: ='VALOR REPUESTOS'!$C$82 -> 25000 | D10: 2 | E10: =C10*D10 -> 50000 | J10: =E10 -> 50000
A11: Kit de distribución | B11: ='VALOR REPUESTOS'!$A$83 -> KDIST | C11: ='VALOR REPUESTOS'!$C$83 -> 145000 | D11: 1 | E11: =C11*D11 -> 145000 | J11: =E11 -> 145000
A12: Litro de Refrigerante | B12: ='VALOR REPUESTOS'!$A$3 -> AL1C1 | C12: ='VALOR REPUESTOS'!$C$3 -> 6000 | D12: 7 | E12: =C12*D12 -> 42000 | J12: =E12 -> 42000
A13: Materiales e Insumos | B13: ='VALOR REPUESTOS'!$A$11 -> MATEI | C13: ='VALOR REPUESTOS'!$C$11 -> 10000 | D13: 1 | E13: =C13*D13 -> 10000 | F13: =E13 -> 10000 | G13: =F13 -> 10000 | H13: =G13 -> 10000 | I13: =H13 -> 10000 | J13: =I13 -> 10000
A14: MANO DE OBRA | B14: ='VALOR REPUESTOS'!$A$10 -> MO | C14: ='VALOR REPUESTOS'!$C$10 -> 38000 | F14: =C14*F17 -> 57000 | G14: =C14*G17 -> 95000 | H14: =C14*H17 -> 76000 | I14: =C14*I17 -> 95000 | J14: =C14*J17 -> 190000
A15: TOTAL NETO | C15: - | F15: =SUM(F2:F14) -> 119000 | G15: =SUM(G2:G14) -> 211000 | H15: =SUM(H2:H14) -> 138000 | I15: =SUM(I2:I14) -> 217800 | J15: =SUM(J2:J14) -> 543000
A16: TOTAL BRUTO | F16: =F15*1.19 -> 141610 | G16: =G15*1.19 -> 251090 | H16: =H15*1.19 -> 164220 | I16: =I15*1.19 -> 259182 | J16: =J15*1.19 -> 646170
A17: HORAS DE TRABAJO | F17: 1.5 | G17: 2.5 | H17: 2 | I17: 2.5 | J17: 5

Sheet COLORADO
A1: CHEVROLET COLORADO 4X4 AT | B1: CODIGO | C1: Valor Unitario | D1: CANTIDAD | E1: VALOR TOTAL | F1: 10-50-70 | G1: 20 | H1: 30 | I1: 40 | J1: 60 | K1: 80 | L1: 90 | M1: 100 | N1: 120
A2: Litro de Aceite de Motor | B2: ='VALOR REPUESTOS'!$A$12 -> A5W30 | C2: ='VALOR REPUESTOS'!$C$12 -> 8000 | D2: 6 | E2: =C2*D2 -> 48000 | F2: =$E$2 -> 48000 | G2: =$E$2 -> 48000 | H2: =$E$2 -> 48000 | I2: =$E$2 -> 48000 | J2: =$E$2 -> 48000 | K2: =$E$2 -> 48000 | L2: =$E$2 -> 48000 | M2: =$E$2 -> 48000 | N2: =$E$2 -> 48000
A3: Cambio Filtro de Aceite de Motor | B3: ='VALOR REPUESTOS'!$A$88 -> FM | C3: ='VALOR REPUESTOS'!$C$88 -> 18000 | D3: 1 | E3: =C3*D3 -> 18000 | F3: =$E$3 -> 18000 | G3: =$E$3 -> 18000 | H3: =$E$3 -> 18000 | I3: =$E$3 -> 18000 | J3: =$E$3 -> 18000 | K3: =$E$3 -> 18000 | L3: =$E$3 -> 18000 | M3: =$E$3 -> 18000 | N3: =$E$3 -> 18000
A4: Cambio golilla tapón del carter | B4: ='VALOR REPUESTOS'!$A$17 -> GTC | C4: ='VALOR REPUESTOS'!$C$17 -> 3500 | D4: 1 | E4: =C4*D4 -> 3500 | F4: =$E$4 -> 3500 | G4: =$E$4 -> 3500 | H4: =$E$4 -> 3500 | I4: =$E$4 -> 3500 | J4: =$E$4 -> 3500 | K4: =$E$4 -> 3500 | L4: =$E$4 -> 3500 | M4: =$E$4 -> 3500 | N4: =$E$4 -> 3500
A5: Cambio Filtro de Aire | B5: ='VALOR REPUESTOS'!$A$90 -> FA | C5: ='VALOR REPUESTOS'!$C$90 -> 25000 | D5: 1 | E5: =C5*D5 -> 25000 | G5: =$E$5 -> 25000 | I5: =$E$5 -> 25000 | J5: =$E$5 -> 25000 | K5: =$E$5 -> 25000 | M5: =$E$5 -> 25000 | N5: =$E$5 -> 25000
A6: Cambio Filtro de Polen | B6: ='VALOR REPUESTOS'!$A$89 -> FP | C6: ='VALOR REPUESTOS'!$C$89 -> 23000 | D6: 1 | E6: =C6*D6 -> 23000 | F6: =$E$6 -> 23000 | H6: =$F$6 -> 23000 | L6: =$E$6 -> 23000
A7: Cambio Filtro de Combustible | B7: ='VALOR REPUESTOS'!$A$91 -> FC | C7: ='VALOR REPUESTOS'!$C$91 -> 31000 | D7: 1 | E7: =C7*D7 -> 31000 | H7: =$E$7 -> 31000 | J7: =$E$7 -> 31000 | L7: =$E$7 -> 31000 | N7: =$E$7 -> 31000
A8: Litro de Aceite Diferencial Delantero | B8: ='VALOR REPUESTOS'!$A$6 -> 80W90 | C8: ='VALOR REPUESTOS'!$C$6 -> 10500 | D8: 2 | E8: =C8*D8 -> 21000 | N8: =$E$8 -> 21000
A9: Litro de Aceite Diferencial Trasero | B9: ='VALOR REPUESTOS'!$A$5 -> 80W90LS | C9: ='VALOR REPUESTOS'!$C$5 -> 10500 | D9: 2.5 | E9: =C9*D9 -> 26250 | N9: =$E$9 -> 26250
A10: Líquido Limpiaparabrisas Concentrado | B10: ='VALOR REPUESTOS'!$A$16 -> LLP | C10: ='VALOR REPUESTOS'!$C$16 -> 3500 | D10: 1 | E10: =C10*D10 -> 3500 | F10: =$E$10 -> 3500 | G10: =$E$10 -> 3500 | H10: =$E$10 -> 3500 | I10: =$E$10 -> 3500 | J10: =$E$10 -> 3500 | K10: =$E$10 -> 3500 | L10: =$E$10 -> 3500 | M10: =$E$10 -> 3500 | N10: =$E$10 -> 3500
A11: Litro Aceite de Transferencia | B11: ='VALOR REPUESTOS'!$A$7 -> A75W90 | C11: ='VALOR REPUESTOS'!$C$7 -> 12000 | D11: 2.5 | E11: =C11*D11 -> 30000 | K11: =$E$11 -> 30000
A12: Correa de Accesorios | B12: ='VALOR REPUESTOS'!$A$111 -> CACC | C12: ='VALOR REPUESTOS'!$C$111 -> 30000 | D12: 1 | E12: =C12*D12 -> 30000 | M12: =$E$12 -> 30000
A13: Litro Liquido de Freno | B13: ='VALOR REPUESTOS'!$A$9 -> AL3C1F | C13: ='VALOR REPUESTOS'!$C$9 -> 6800 | D13: 2 | E13: =C13*D13 -> 13600 | I13: =$E$13 -> 13600 | K13: =$E$13 -> 13600 | N13: =$E$13 -> 13600
A14: Litro Liquido de Embrague | B14: ='VALOR REPUESTOS'!$A$9 -> AL3C1F | C14: ='VALOR REPUESTOS'!$C$9 -> 6800 | D14: 2 | E14: =C14*D14 -> 13600 | I14: =$E$14 -> 13600 | K14: =$E$14 -> 13600 | N14: =$E$14 -> 13600
A15: Materiales e Insumos | B15: ='VALOR REPUESTOS'!$A$11 -> MATEI | C15: ='VALOR REPUESTOS'!$C$11 -> 10000 | D15: 1 | E15: =C15*D15 -> 10000 | F15: =$E$15 -> 10000 | G15: =$E$15 -> 10000 | H15: =$E$15 -> 10000 | I15: =$E$15 -> 10000 | J15: =$E$15 -> 10000 | K15: =$E$15 -> 10000 | L15: =$E$15 -> 10000 | M15: =$E$15 -> 10000 | N15: =$E$15 -> 10000
A16: MANO DE OBRA | B16: ='VALOR REPUESTOS'!$A$10 -> MO | C16: ='VALOR REPUESTOS'!$C$10 -> 38000 | F16: =C16*F19 -> 76000 | G16: =C16*G19 -> 76000 | H16: =C16*H19 -> 95000 | I16: =C16*I19 -> 95000 | J16: =C16*J19 -> 95000 | K16: =C16*K19 -> 114000 | L16: =C16*L19 -> 95000 | M16: =C16*M19 -> 95000 | N16: =C16*N19 -> 114000
A17: TOTAL NETO | C17: - | F17: =SUM(F2:F16) -> 182000 | G17: =SUM(G2:G16) -> 184000 | H17: =SUM(H2:H16) -> 232000 | I17: =SUM(I2:I16) -> 230200 | J17: =SUM(J2:J16) -> 234000 | K17: =SUM(K2:K16) -> 279200 | L17: =SUM(L2:L16) -> 232000 | M17: =SUM(M2:M16) -> 233000 | N17: =SUM(N2:N16) -> 327450
A18: TOTAL BRUTO | F18: =F17*1.19 -> 216580 | G18: =G17*1.19 -> 218960 | H18: =H17*1.19 -> 276080 | I18: =I17*1.19 -> 273938 | J18: =J17*1.19 -> 278460 | K18: =K17*1.19 -> 332248 | L18: =L17*1.19 -> 276080 | M18: =M17*1.19 -> 277270 | N18: =N17*1.19 -> 389665.5
A19: HORAS DE TRABAJO | F19: 2 | G19: 2 | H19: 2.5 | I19: 2.5 | J19: 2.5 | K19: 3 | L19: 2.5 | M19: 2.5 | N19: 3
N20: NO INFORMADA

Sheet NEWL200
A1: NEW L-200 4X2 Y 4X4 DIESEL (XRT-XR) | B1: CODIGO | C1: Valor Unitario | D1: CANTIDAD | E1: VALOR TOTAL | F1: 10-30-50-70-90 | G1: 20 | H1: 40-80 4X2 | I1: 40-80 4X4 | J1: 60 4X2 | K1: 60 4X4 | L1: 100
A2: Litro de Aceite de Motor | B2: ='VALOR REPUESTOS'!$A$12 -> A5W30 | C2: ='VALOR REPUESTOS'!$C$12 -> 8000 | D2: 7.3 | E2: =C2*D2 -> 58400 | F2: =$E$2 -> 58400 | G2: =$E$2 -> 58400 | H2: =$E$2 -> 58400 | I2: =$E$2 -> 58400 | J2: =$E$2 -> 58400 | K2: =$E$2 -> 58400 | L2: =$E$2 -> 58400
A3: Cambio Filtro de Aceite de Motor | B3: ='VALOR REPUESTOS'!$A$97 -> FM | C3: ='VALOR REPUESTOS'!$C$97 -> 11000 | D3: 1 | E3: =C3*D3 -> 11000 | F3: =$E$3 -> 11000 | G3: =$E$3 -> 11000 | H3: =$E$3 -> 11000 | I3: =$E$3 -> 11000 | J3: =$E$3 -> 11000 | K3: =$E$3 -> 11000 | L3: =$E$3 -> 11000
A4: Cambio golilla tapón del carter | B4: ='VALOR REPUESTOS'!$A$17 -> GTC | C4: ='VALOR REPUESTOS'!$C$17 -> 3500 | D4: 1 | E4: =C4*D4 -> 3500 | F4: =$E$4 -> 3500 | G4: =$E$4 -> 3500 | H4: =$E$4 -> 3500 | I4: =$E$4 -> 3500 | J4: =$E$4 -> 3500 | K4: =$E$4 -> 3500 | L4: =$E$4 -> 3500
A5: Cambio Filtro de Aire | B5: ='VALOR REPUESTOS'!$A$99 -> FA | C5: ='VALOR REPUESTOS'!$C$99 -> 20000 | D5: 1 | E5: =C5*D5 -> 20000 | G5: =$E$5 -> 20000 | H5: =$E$5 -> 20000 | I5: =$E$5 -> 20000 | J5: =$E$5 -> 20000 | K5: =$E$5 -> 20000 | L5: =$E$5 -> 20000
A6: Cambio Filtro de Combustible | B6: ='VALOR REPUESTOS'!$A$100 -> FC | C6: ='VALOR REPUESTOS'!$C$100 -> 28000 | D6: 1 | E6: =C6*D6 -> 28000 | G6: =$E$6 -> 28000 | H6: =$E$6 -> 28000 | I6: =$E$6 -> 28000 | J6: =$E$6 -> 28000 | K6: =$E$6 -> 28000 | L6: =$E$6 -> 28000
A7: Cambio Filtro de Polen | B7: ='VALOR REPUESTOS'!$A$98 -> FP | C7: ='VALOR REPUESTOS'!$C$98 -> 18000 | D7: 1 | E7: =C7*D7 -> 18000 | G7: =$E$7 -> 18000 | H7: =$E$7 -> 18000 | I7: =$E$7 -> 18000 | J7: =$E$7 -> 18000 | K7: =$E$7 -> 18000 | L7: =$E$7 -> 18000
A8: Litro Aceite Caja de Cambios Transmisión Mecánica | B8: ='VALOR REPUESTOS'!$A$8 -> 75W90 | C8: ='VALOR REPUESTOS'!$C$8 -> 12000 | D8: 2.2 | E8: =C8*D8 -> 26400 | J8: =$E$8 -> 26400 | K8: =$E$8 -> 26400
A9: Líquido Limpiaparabrisas Concentrado | B9: ='VALOR REPUESTOS'!$A$16 -> LLP | C9: ='VALOR REPUESTOS'!$C$16 -> 3500 | D9: 1 | E9: =C9*D9 -> 3500 | F9: =$E$9 -> 3500 | G9: =$E$9 -> 3500 | H9: =$E$9 -> 3500 | I9: =$E$9 -> 3500 | J9: =$E$9 -> 3500 | K9: =$E$9 -> 3500 | L9: =$E$9 -> 3500
A10: Litro de Aceite Diferencial Delantero | B10: ='VALOR REPUESTOS'!$A$6 -> 80W90 | C10: ='VALOR REPUESTOS'!$C$6 -> 10500 | D10: 1.2 | E10: =C10*D10 -> 12600 | I10: =$E$10 -> 12600
A11: Litro de Aceite Diferencial Trasero | B11: ='VALOR REPUESTOS'!$A$5 -> 80W90LS | C11: ='VALOR REPUESTOS'!$C$5 -> 10500 | D11: 2.4 | E11: =C11*D11 -> 25200 | H11: =$E$11 -> 25200 | I11: =$E$11 -> 25200
A12: Litro Aceite de Transferencia | B12: ='VALOR REPUESTOS'!$A$7 -> A75W90 | C12: ='VALOR REPUESTOS'!$C$7 -> 12000 | D12: 1.2 | E12: =C12*D12 -> 14400 | K12: =$E$12 -> 14400
A13: Litro Liquido de Freno | B13: ='VALOR REPUESTOS'!$A$9 -> AL3C1F | C13: ='VALOR REPUESTOS'!$C$9 -> 6800 | D13: 1 | E13: =C13*D13 -> 6800 | H13: =$E$13 -> 6800 | I13: =$E$13 -> 6800
A14: Litro de Refrigerante | B14: ='VALOR REPUESTOS'!$A$3 -> AL1C1 | C14: ='VALOR REPUESTOS'!$C$3 -> 6000 | D14: 9 | E14: =C14*D14 -> 54000 | L14: =$E$14 -> 54000
A15: Materiales e Insumos | B15: ='VALOR REPUESTOS'!$A$11 -> MATEI | C15: ='VALOR REPUESTOS'!$C$11 -> 10000 | D15: 1 | E15: =C15*D15 -> 10000 | F15: =$E$15 -> 10000 | G15: =$E$15 -> 10000 | H15: =$E$15 -> 10000 | I15: =$E$15 -> 10000 | J15: =$E$15 -> 10000 | K15: =$E$15 -> 10000 | L15: =$E$15 -> 10000
A16: MANO DE OBRA | B16: ='VALOR REPUESTOS'!$A$10 -> MO | C16: ='VALOR REPUESTOS'!$C$10 -> 38000 | F16: =C16*F19 -> 76000 | G16: =C16*G19 -> 95000 | H16: =C16*H19 -> 114000 | I16: =C16*I19 -> 114000 | J16: =C16*J19 -> 114000 | K16: =C16*K19 -> 114000 | L16: =C16*L19 -> 114000
A17: TOTAL NETO | F17: =SUM(F2:F16) -> 162400 | G17: =SUM(G2:G16) -> 247400 | H17: =SUM(H2:H16) -> 298400 | I17: =SUM(I2:I16) -> 311000 | J17: =SUM(J2:J16) -> 292800 | K17: =SUM(K2:K16) -> 307200 | L17: =SUM(L2:L16) -> 320400
A18: TOTAL BRUTO | F18: =F17*1.19 -> 193256 | G18: =G17*1.19 -> 294406 | H18: =H17*1.19 -> 355096 | I18: =I17*1.19 -> 370090 | J18: =J17*1.19 -> 348432 | K18: =K17*1.19 -> 365568 | L18: =L17*1.19 -> 381276
A19: HORAS DE TRABAJO | F19: 2 | G19: 2.5 | H19: 3 | I19: 3 | J19: 3 | K19: 3 | L19: 3
A34: {=A34:A35} -> 0

Sheet L200
A1: L-200 4X2 Y 4X4 DIESEL 2.4 MEC. E5 (KK1 & KL1) | B1: CODIGO | C1: Valor Unitario | D1: CANTIDAD | E1: VALOR TOTAL | F1: 10-30-50-70-90 | G1: 20 | H1: 40-80 4X2 | I1: 40-80 4X4 | J1: 60 4X2 | K1: 60 4X4 | L1: 100
A2: Litro de Aceite de Motor | B2: ='VALOR REPUESTOS'!$A$12 -> A5W30 | C2: ='VALOR REPUESTOS'!$C$12 -> 8000 | D2: 8 | E2: =C2*D2 -> 64000 | F2: =$E$2 -> 64000 | G2: =$E$2 -> 64000 | H2: =$E$2 -> 64000 | I2: =$E$2 -> 64000 | J2: =$E$2 -> 64000 | K2: =$E$2 -> 64000 | L2: =$E$2 -> 64000
A3: Cambio Filtro de Aceite de Motor | B3: ='VALOR REPUESTOS'!$A$105 -> FM | C3: ='VALOR REPUESTOS'!$C$105 -> 11000 | D3: 1 | E3: =C3*D3 -> 11000 | F3: =$E$3 -> 11000 | G3: =$E$3 -> 11000 | H3: =$E$3 -> 11000 | I3: =$E$3 -> 11000 | J3: =$E$3 -> 11000 | K3: =$E$3 -> 11000 | L3: =$E$3 -> 11000
A4: Cambio Filtro de Aire | B4: ='VALOR REPUESTOS'!$A$106 -> FA | C4: ='VALOR REPUESTOS'!$C$106 -> 20000 | D4: 1 | E4: =C4*D4 -> 20000 | G4: =$E$4 -> 20000 | H4: =$E$4 -> 20000 | I4: =$E$4 -> 20000 | J4: =$E$4 -> 20000 | K4: =$E$4 -> 20000 | L4: =$E$4 -> 20000
A5: Cambio golilla tapón del carter | B5: ='VALOR REPUESTOS'!$A$17 -> GTC | C5: ='VALOR REPUESTOS'!$C$17 -> 3500 | D5: 1 | E5: =C5*D5 -> 3500 | F5: =$E$5 -> 3500 | G5: =$E$5 -> 3500 | H5: =$E$5 -> 3500 | I5: =$E$5 -> 3500 | J5: =$E$5 -> 3500 | K5: =$E$5 -> 3500 | L5: =$E$5 -> 3500
A6: Cambio Filtro de Combustible | B6: ='VALOR REPUESTOS'!$A$108 -> FC | C6: ='VALOR REPUESTOS'!$C$108 -> 23000 | D6: 1 | E6: =C6*D6 -> 23000 | G6: =$E$6 -> 23000 | H6: =$E$6 -> 23000 | I6: =$E$6 -> 23000 | J6: =$E$6 -> 23000 | K6: =$E$6 -> 23000 | L6: =$E$6 -> 23000
A7: Litro Aceite Caja de Cambios Transmisión Mecánica | B7: ='VALOR REPUESTOS'!$A$8 -> 75W90 | C7: ='VALOR REPUESTOS'!$C$8 -> 12000 | D7: 2.2 | E7: =C7*D7 -> 26400 | J7: =$E$7 -> 26400 | K7: =$E$7 -> 26400
A8: Litro de Aceite Diferencial Delantero | B8: ='VALOR REPUESTOS'!$A$6 -> 80W90 | C8: ='VALOR REPUESTOS'!$C$6 -> 10500 | D8: 1.5 | E8: =C8*D8 -> 15750 | I8: =$E$8 -> 15750
A9: Litro de Aceite Diferencial Trasero | B9: ='VALOR REPUESTOS'!$A$5 -> 80W90LS | C9: ='VALOR REPUESTOS'!$C$5 -> 10500 | D9: 2.3 | E9: =C9*D9 -> 24150 | H9: =$E$9 -> 24150 | I9: =$E$9 -> 24150
A10: Líquido Limpiaparabrisas Concentrado | B10: ='VALOR REPUESTOS'!$A$16 -> LLP | C10: ='VALOR REPUESTOS'!$C$16 -> 3500 | D10: 1 | E10: =C10*D10 -> 3500 | F10: =$E$10 -> 3500 | G10: =$E$10 -> 3500 | H10: =$E$10 -> 3500 | I10: =$E$10 -> 3500 | J10: =$E$10 -> 3500 | K10: =$E$10 -> 3500 | L10: =$E$10 -> 3500
A11: Litro Aceite Dirección Hidraulica | B11: ='VALOR REPUESTOS'!$A$4 -> ATF220 | C11: ='VALOR REPUESTOS'!$C$4 -> 10500 | D11: 1 | E11: =C11*D11 -> 10500
A12: Litro Aceite de Transferencia | B12: ='VALOR REPUESTOS'!$A$7 -> A75W90 | C12: ='VALOR REPUESTOS'!$C$7 -> 12000 | D12: 1.15 | E12: =C12*D12 -> 13800 | K12: =$E$12 -> 13800
A13: Litro Liquido de Freno | B13: ='VALOR REPUESTOS'!$A$9 -> AL3C1F | C13: ='VALOR REPUESTOS'!$C$9 -> 6800 | D13: 1 | E13: =C13*D13 -> 6800 | H13: =$E$13 -> 6800 | I13: =$E$13 -> 6800
A14: Litro de Refrigerante | B14: ='VALOR REPUESTOS'!$A$3 -> AL1C1 | C14: ='VALOR REPUESTOS'!$C$3 -> 6000 | D14: 5 | E14: =C14*D14 -> 30000 | L14: =$E$14 -> 30000
A15: Materiales e Insumos | B15: ='VALOR REPUESTOS'!$A$11 -> MATEI | C15: ='VALOR REPUESTOS'!$C$11 -> 10000 | D15: 1 | E15: =C15*D15 -> 10000 | F15: =$E$15 -> 10000 | G15: =$E$15 -> 10000 | H15: =$E$15 -> 10000 | I15: =$E$15 -> 10000 | J15: =$E$15 -> 10000 | K15: =$E$15 -> 10000 | L15: =$E$15 -> 10000
A16: MANO DE OBRA | B16: ='VALOR REPUESTOS'!$A$10 -> MO | C16: ='VALOR REPUESTOS'!$C$10 -> 38000 | F16: =C16*F19 -> 76000 | G16: =C16*G19 -> 95000 | H16: =C16*H19 -> 114000 | I16: =C16*I19 -> 114000 | J16: =C16*J19 -> 114000 | K16: =C16*K19 -> 114000 | L16: =C16*L19 -> 114000
A17: TOTAL NETO | C17: - | F17: =SUM(F2:F16) -> 168000 | G17: =SUM(G2:G16) -> 230000 | H17: =SUM(H2:H16) -> 279950 | I17: =SUM(I2:I16) -> 295700 | J17: =SUM(J2:J16) -> 275400 | K17: =SUM(K2:K16) -> 289200 | L17: =SUM(L2:L16) -> 279000
A18: TOTAL BRUTO | F18: =F17*1.19 -> 199920 | G18: =G17*1.19 -> 273700 | H18: =H17*1.19 -> 333140.5 | I18: =I17*1.19 -> 351883 | J18: =J17*1.19 -> 327726 | K18: =K17*1.19 -> 344148 | L18: =L17*1.19 -> 332010
A19: HORAS DE TRABAJO | F19: 2 | G19: 2.5 | H19: 3 | I19: 3 | J19: 3 | K19: 3 | L19: 3
A21: L-200 4X2 Y 4X4 DIESEL 2.2 MEC. E6 (KK6-KL6) | B21: CODIGO | C21: Valor Unitario | D21: CANTIDAD | E21: VALOR TOTAL | F21: 10-30-50-70-90 | G21: 20 | H21: 40-80 4X2 | I21: 40-80 4X4 | J21: 60 4X2 | K21: 60 4X4 | L21: 100
A22: Litro de Aceite de Motor | B22: ='VALOR REPUESTOS'!$A$12 -> A5W30 | C22: ='VALOR REPUESTOS'!$C$12 -> 8000 | D22: 6.4 | E22: =C22*D22 -> 51200 | F22: =$E$22 -> 51200 | G22: =$E$22 -> 51200 | H22: =$E$22 -> 51200 | I22: =$E$22 -> 51200 | J22: =$E$22 -> 51200 | K22: =$E$22 -> 51200 | L22: =$E$22 -> 51200
A23: Cambio Filtro de Aceite de Motor | B23: ='VALOR REPUESTOS'!$A$105 -> FM | C23: ='VALOR REPUESTOS'!$C$105 -> 11000 | D23: 1 | E23: =C23*D23 -> 11000 | F23: =$E$23 -> 11000 | G23: =$E$23 -> 11000 | H23: =$E$23 -> 11000 | I23: =$E$23 -> 11000 | J23: =$E$23 -> 11000 | K23: =$E$23 -> 11000 | L23: =$E$23 -> 11000
A24: Cambio golilla tapón del carter | B24: ='VALOR REPUESTOS'!$A$17 -> GTC | C24: ='VALOR REPUESTOS'!$C$17 -> 3500 | D24: 1 | E24: =C24*D24 -> 3500 | F24: =$E$24 -> 3500 | G24: =$E$24 -> 3500 | H24: =$E$24 -> 3500 | I24: =$E$24 -> 3500 | J24: =$E$24 -> 3500 | K24: =$E$24 -> 3500 | L24: =$E$24 -> 3500
A25: Cambio Filtro de Aire | B25: ='VALOR REPUESTOS'!$A$106 -> FA | C25: ='VALOR REPUESTOS'!$C$106 -> 20000 | D25: 1 | E25: =C25*D25 -> 20000 | G25: =$E$25 -> 20000 | H25: =$E$25 -> 20000 | I25: =$E$25 -> 20000 | J25: =$E$25 -> 20000 | K25: =$E$25 -> 20000 | L25: =$E$25 -> 20000
A26: Cambio Filtro de Combustible | B26: ='VALOR REPUESTOS'!$A$108 -> FC | C26: ='VALOR REPUESTOS'!$C$108 -> 23000 | D26: 1 | E26: =C26*D26 -> 23000 | G26: =$E$26 -> 23000 | H26: =$E$26 -> 23000 | I26: =$E$26 -> 23000 | J26: =$E$26 -> 23000 | K26: =$E$26 -> 23000 | L26: =$E$26 -> 23000
A27: Litro Aceite Caja de Cambios Transmisión Mecánica | B27: ='VALOR REPUESTOS'!$A$8 -> 75W90 | C27: ='VALOR REPUESTOS'!$C$8 -> 12000 | D27: 2.2 | E27: =C27*D27 -> 26400 | J27: =$E$27 -> 26400 | K27: =$E$27 -> 26400
A28: Litro de Aceite Diferencial Delantero | B28: ='VALOR REPUESTOS'!$A$6 -> 80W90 | C28: ='VALOR REPUESTOS'!$C$6 -> 10500 | D28: 1.5 | E28: =C28*D28 -> 15750 | I28: =$E$28 -> 15750
A29: Litro de Aceite Diferencial Trasero | B29: ='VALOR REPUESTOS'!$A$5 -> 80W90LS | C29: ='VALOR REPUESTOS'!$C$5 -> 10500 | D29: 2.3 | E29: =C29*D29 -> 24150 | H29: =$E$29 -> 24150 | I29: =$E$29 -> 24150
A30: Líquido Limpiaparabrisas Concentrado | B30: ='VALOR REPUESTOS'!$A$16 -> LLP | C30: ='VALOR REPUESTOS'!$C$16 -> 3500 | D30: 1 | E30: =C30*D30 -> 3500 | F30: =$E$30 -> 3500 | G30: =$E$30 -> 3500 | H30: =$E$30 -> 3500 | I30: =$E$30 -> 3500 | J30: =$E$30 -> 3500 | K30: =$E$30 -> 3500 | L30: =$E$30 -> 3500
A31: Litro Aceite Dirección Hidraulica | B31: ='VALOR REPUESTOS'!$A$4 -> ATF220 | C31: ='VALOR REPUESTOS'!$C$4 -> 10500 | D31: 1 | E31: =C31*D31 -> 10500
A32: Litro Aceite de Transferencia | B32: ='VALOR REPUESTOS'!$A$7 -> A75W90 | C32: ='VALOR REPUESTOS'!$C$7 -> 12000 | D32: 1.15 | E32: =C32*D32 -> 13800 | K32: =$E$32 -> 13800
A33: Litro Liquido de Freno | B33: ='VALOR REPUESTOS'!$A$9 -> AL3C1F | C33: ='VALOR REPUESTOS'!$C$9 -> 6800 | D33: 1 | E33: =C33*D33 -> 6800 | H33: =$E$33 -> 6800 | I33: =$E$33 -> 6800
A34: Litro de Refrigerante | B34: ='VALOR REPUESTOS'!$A$3 -> AL1C1 | C34: ='VALOR REPUESTOS'!$C$3 -> 6000 | D34: 5 | E34: =C34*D34 -> 30000 | L34: =$E$34 -> 30000
A35: Materiales e Insumos | B35: ='VALOR REPUESTOS'!$A$11 -> MATEI | C35: ='VALOR REPUESTOS'!$C$11 -> 10000 | D35: 1 | E35: =C35*D35 -> 10000 | F35: =$E$35 -> 10000 | G35: =$E$35 -> 10000 | H35: =$E$35 -> 10000 | I35: =$E$35 -> 10000 | J35: =$E$35 -> 10000 | K35: =$E$35 -> 10000 | L35: =$E$35 -> 10000
A36: MANO DE OBRA | B36: ='VALOR REPUESTOS'!$A$10 -> MO | C36: ='VALOR REPUESTOS'!$C$10 -> 38000 | F36: =C36*F39 -> 76000 | G36: =C36*G39 -> 95000 | H36: =C36*H39 -> 114000 | I36: =C36*I39 -> 114000 | J36: =C36*J39 -> 114000 | K36: =C36*K39 -> 114000 | L36: =C36*L39 -> 114000
A37: TOTAL NETO | C37: - | F37: =SUM(F22:F36) -> 155200 | G37: =SUM(G22:G36) -> 217200 | H37: =SUM(H22:H36) -> 267150 | I37: =SUM(I22:I36) -> 282900 | J37: =SUM(J22:J36) -> 262600 | K37: =SUM(K22:K36) -> 276400 | L37: =SUM(L22:L36) -> 266200
A38: TOTAL BRUTO | F38: =F37*1.19 -> 184688 | G38: =G37*1.19 -> 258468 | H38: =H37*1.19 -> 317908.5 | I38: =I37*1.19 -> 336651 | J38: =J37*1.19 -> 312494 | K38: =K37*1.19 -> 328916 | L38: =L37*1.19 -> 316778
A39: HORAS DE TRABAJO | F39: 2 | G39: 2.5 | H39: 3 | I39: 3 | J39: 3 | K39: 3 | L39: 3

Sheet NEW RAV4
A1: NEW RAV 4 LE 2.0 4X2 CVT | B1: CODIGO | C1: Valor Unitario | D1: CANTIDAD | E1: VALOR TOTAL | F1: 10-30. | G1: 20-60 | H1: 40-80 | I1: 50-70 | J1: 90 | K1: 100
A2: Litro de Aceite de Motor | B2: ='VALOR REPUESTOS'!$A$12 -> A5W30 | C2: ='VALOR REPUESTOS'!$C$12 -> 8000 | D2: 5 | E2: =C2*D2 -> 40000 | F2: =$E$2 -> 40000 | G2: =$E$2 -> 40000 | H2: =$E$2 -> 40000 | I2: =$E$2 -> 40000 | J2: =$E$2 -> 40000 | K2: =$E$2 -> 40000
A3: Cambio Filtro de Aceite de Motor | B3: ='VALOR REPUESTOS'!$A$101 -> FM | C3: ='VALOR REPUESTOS'!$C$101 -> 13000 | D3: 1 | E3: =C3*D3 -> 13000 | F3: =$E$3 -> 13000 | G3: =$E$3 -> 13000 | H3: =$E$3 -> 13000 | I3: =$E$3 -> 13000 | J3: =$E$3 -> 13000 | K3: =$E$3 -> 13000
A4: Cambio golilla tapón del carter | B4: ='VALOR REPUESTOS'!$A$17 -> GTC | C4: ='VALOR REPUESTOS'!$C$17 -> 3500 | D4: 1 | E4: =C4*D4 -> 3500 | F4: =$E$4 -> 3500 | G4: =$E$4 -> 3500 | H4: =$E$4 -> 3500 | I4: =$E$4 -> 3500 | J4: =$E$4 -> 3500 | K4: =$E$4 -> 3500
A5: Cambio Filtro de Aire | B5: ='VALOR REPUESTOS'!$A$102 -> FA | C5: ='VALOR REPUESTOS'!$C$102 -> 18000 | D5: 1 | E5: =C5*D5 -> 18000 | G5: =$E$5 -> 18000 | H5: =$E$5 -> 18000 | K5: =$E$5 -> 18000
A6: Líquido Limpiaparabrisas Concentrado | B6: ='VALOR REPUESTOS'!$A$16 -> LLP | C6: ='VALOR REPUESTOS'!$C$16 -> 3500 | D6: 1 | E6: =C6*D6 -> 3500 | F6: =$E$6 -> 3500 | G6: =$E$6 -> 3500 | H6: =$E$6 -> 3500 | I6: =$E$6 -> 3500 | J6: =$E$6 -> 3500 | K6: =$E$6 -> 3500
A7: Bujías | B7: ='VALOR REPUESTOS'!$A$104 -> BUJ | C7: ='VALOR REPUESTOS'!$C$104 -> 15000 | D7: 4 | E7: =C7*D7 -> 60000 | J7: =$E$7 -> 60000
A8: Litro Liquido de Freno | B8: ='VALOR REPUESTOS'!$A$9 -> AL3C1F | C8: ='VALOR REPUESTOS'!$C$9 -> 6800 | D8: 1 | E8: =C8*D8 -> 6800 | H8: =$E$8 -> 6800
A9: Litro Liquido de Embrague | B9: ='VALOR REPUESTOS'!$A$9 -> AL3C1F | C9: ='VALOR REPUESTOS'!$C$9 -> 6800 | D9: 1 | E9: =C9*D9 -> 6800 | H9: =$E$9 -> 6800
A10: Materiales e Insumos | B10: ='VALOR REPUESTOS'!$A$11 -> MATEI | C10: ='VALOR REPUESTOS'!$C$11 -> 10000 | D10: 1 | E10: =C10*D10 -> 10000 | F10: =$E$10 -> 10000 | G10: =$E$10 -> 10000 | H10: =$E$10 -> 10000 | I10: =$E$10 -> 10000 | J10: =$E$10 -> 10000 | K10: =$E$10 -> 10000
A11: MANO DE OBRA | B11: ='VALOR REPUESTOS'!$A$10 -> MO | C11: ='VALOR REPUESTOS'!$C$10 -> 38000 | F11: =C11*F14 -> 57000 | G11: =C11*G14 -> 76000 | H11: =C11*H14 -> 95000 | I11: =C11*I14 -> 76000 | J11: =C11*J14 -> 95000 | K11: =C11*K14 -> 95000
A12: TOTAL NETO | C12: - | F12: =SUM(F2:F11) -> 127000 | G12: =SUM(G2:G11) -> 164000 | H12: =SUM(H2:H11) -> 196600 | I12: =SUM(I2:I11) -> 146000 | J12: =SUM(J2:J11) -> 225000 | K12: =SUM(K2:K11) -> 183000
A13: TOTAL BRUTO | F13: =F12*1.19 -> 151130 | G13: =G12*1.19 -> 195160 | H13: =H12*1.19 -> 233954 | I13: =I12*1.19 -> 173740 | J13: =J12*1.19 -> 267750 | K13: =K12*1.19 -> 217770
A14: HORAS DE TRABAJO | F14: 1.5 | G14: 2 | H14: 2.5 | I14: 2 | J14: 2.5 | K14: 2.5

Sheet HILUX
A1: USO NORMAL | I1: 4x2 | J1: 4x4
A2: TOYOTA HILUX 2.4 MEC 4X2 y 4X4 | B2: CODIGO | C2: Valor Unitario | D2: CANTIDAD | E2: VALOR TOTAL | F2: 10-50-70 | G2: 20-100 | H2: 30-90 | I2: 40-80 | J2: 40-80 | K2: 60
A3: Litro de Aceite de Motor | B3: ='VALOR REPUESTOS'!$A$12 -> A5W30 | C3: ='VALOR REPUESTOS'!$C$12 -> 8000 | D3: 7 | E3: =C3*D3 -> 56000 | F3: =$E$3 -> 56000 | G3: =$E$3 -> 56000 | H3: =$E$3 -> 56000 | I3: =$E$3 -> 56000 | J3: =$E$3 -> 56000 | K3: =$E$3 -> 56000
A4: Cambio Filtro de Aceite de Motor | B4: ='VALOR REPUESTOS'!$A$115 -> FM | C4: ='VALOR REPUESTOS'!$C$115 -> 12500 | D4: 1 | E4: =C4*D4 -> 12500 | F4: =$E$4 -> 12500 | G4: =$E$4 -> 12500 | H4: =$E$4 -> 12500 | I4: =$E$4 -> 12500 | J4: =$E$4 -> 12500 | K4: =$E$4 -> 12500
